BEGIN:VCALENDAR
VERSION:2.0
PRODID:-//ChamberMaster//Event Calendar 2.0//EN
METHOD:PUBLISH
X-PUBLISHED-TTL:P1H
REFRESH-INTERVAL:P1H
CALSCALE:GREGORIAN
BEGIN:VTIMEZONE
TZID:America/Denver
BEGIN:DAYLIGHT
RRULE:FREQ=YEARLY;BYMONTH=3;BYDAY=2SU
DTSTART:20070101T000000
TZOFFSETFROM:-0700
TZOFFSETTO:-0600
TZNAME:Mountain Daylight Time
END:DAYLIGHT
BEGIN:STANDARD
RRULE:FREQ=YEARLY;BYMONTH=11;BYDAY=1SU
DTSTART:20070101T000000
TZOFFSETFROM:-0600
TZOFFSETTO:-0700
TZNAME:Mountain Standard Time
END:STANDARD
END:VTIMEZONE
BEGIN:VEVENT
DTSTART;TZID=America/Denver:20260430T173000
DTEND;TZID=America/Denver:20260430T190000
X-MICROSOFT-CDO-ALLDAYEVENT:FALSE
SUMMARY:YPN After Hours - Cruise Control Kitchen and Cellar
DESCRIPTION:Held monthly by popular demand! After Hours is typically scheduled for the third Thursday of every month. After Hours is held at various cocktail and spirit establishments from 5:30 to 7:30pm. This event is open to YPN members and non-members. Members enjoy a drink on us!Pre-registration is encouraged\; walk-ins welcome.
X-ALT-DESC;FMTTYPE=text/html:<!DOCTYPE html><html><head><title></title></head><body aria-disabled="false"><p>Held monthly by popular demand! After Hours is typically scheduled for the third Thursday of every month. After Hours is held at various cocktail and spirit establishments from 5:30 to 7:30pm.&nbsp\;</p><p>This event is open to YPN members and non-members. Members enjoy a drink on us!</p><p>Pre-registration is encouraged\; walk-ins welcome.&nbsp\;</p></body></html>
LOCATION:555 Colorado Ave Grand Junction CO 81501
UID:e.4049.1378726
SEQUENCE:3
DTSTAMP:20260421T223729Z
URL:https://business.ypnmc.org/ypnevents/Details/ypn-after-hours-cruise-control-kitchen-and-cellar-1627704?sourceTypeId=Hub
END:VEVENT
END:VCALENDAR
